BEGIN:VCALENDAR
VERSION:2.0
PRODID:-//Skiclub Todtnau 1891 e.V. - ECPv6.15.20//NONSGML v1.0//EN
CALSCALE:GREGORIAN
METHOD:PUBLISH
X-WR-CALNAME:Skiclub Todtnau 1891 e.V.
X-ORIGINAL-URL:https://www.skiclub-todtnau.de
X-WR-CALDESC:Veranstaltungen für Skiclub Todtnau 1891 e.V.
REFRESH-INTERVAL;VALUE=DURATION:PT1H
X-Robots-Tag:noindex
X-PUBLISHED-TTL:PT1H
BEGIN:VTIMEZONE
TZID:Europe/Berlin
BEGIN:DAYLIGHT
TZOFFSETFROM:+0100
TZOFFSETTO:+0200
TZNAME:CEST
DTSTART:20240331T010000
END:DAYLIGHT
BEGIN:STANDARD
TZOFFSETFROM:+0200
TZOFFSETTO:+0100
TZNAME:CET
DTSTART:20241027T010000
END:STANDARD
BEGIN:DAYLIGHT
TZOFFSETFROM:+0100
TZOFFSETTO:+0200
TZNAME:CEST
DTSTART:20250330T010000
END:DAYLIGHT
BEGIN:STANDARD
TZOFFSETFROM:+0200
TZOFFSETTO:+0100
TZNAME:CET
DTSTART:20251026T010000
END:STANDARD
BEGIN:DAYLIGHT
TZOFFSETFROM:+0100
TZOFFSETTO:+0200
TZNAME:CEST
DTSTART:20260329T010000
END:DAYLIGHT
BEGIN:STANDARD
TZOFFSETFROM:+0200
TZOFFSETTO:+0100
TZNAME:CET
DTSTART:20261025T010000
END:STANDARD
END:VTIMEZONE
BEGIN:VEVENT
DTSTART;TZID=Europe/Berlin:20251115T113000
DTEND;TZID=Europe/Berlin:20251115T163000
DTSTAMP:20260425T213603
CREATED:20250908T063224Z
LAST-MODIFIED:20251020T125317Z
UID:7438-1763206200-1763224200@www.skiclub-todtnau.de
SUMMARY:Brettlemarkt
DESCRIPTION:Rechtzeitig vor Saisonbeginn bietet der Skiclub Todtnau e.V. allen Wintersportbegeisterten im Autohaus Teichmann die Gelegenheit\, gut erhaltene Gebrauchtware zu verkaufen und sich wieder neu für die anstehende Saison auszustatten. Neben Skiern (alpin und nordisch) und Snowboards\, steht Ihnen ein umfangreiches Sortiment an Skischuhen\, Stöcken und Helmen zur Verfügung. \nAblauf:\nAnnahme: 11:30 – 13:30 Uhr\nVerkaufszeit: 14:00 – 15:30 Uhr\nRückgabe: 16:00– 16:30 Uhr
URL:https://www.skiclub-todtnau.de/event/brettlemarkt/
LOCATION:Autohaus Teichmann\, Schönauer Strasse 22\, Todtnau\, 79674
CATEGORIES:Alpin,Biathlon,Vereinswesen
ATTACH;FMTTYPE=image/jpeg:https://www.skiclub-todtnau.de/wp-content/uploads/sites/23/2025/09/Brettlemarkt.jpg
END:VEVENT
END:VCALENDAR