BEGIN:VCALENDAR
VERSION:2.0
PRODID:-//Skiclub Todtnau 1891 e.V. - ECPv6.15.20//NONSGML v1.0//EN
CALSCALE:GREGORIAN
METHOD:PUBLISH
X-WR-CALNAME:Skiclub Todtnau 1891 e.V.
X-ORIGINAL-URL:https://www.skiclub-todtnau.de
X-WR-CALDESC:Veranstaltungen für Skiclub Todtnau 1891 e.V.
REFRESH-INTERVAL;VALUE=DURATION:PT1H
X-Robots-Tag:noindex
X-PUBLISHED-TTL:PT1H
BEGIN:VTIMEZONE
TZID:Europe/Berlin
BEGIN:DAYLIGHT
TZOFFSETFROM:+0100
TZOFFSETTO:+0200
TZNAME:CEST
DTSTART:20240331T010000
END:DAYLIGHT
BEGIN:STANDARD
TZOFFSETFROM:+0200
TZOFFSETTO:+0100
TZNAME:CET
DTSTART:20241027T010000
END:STANDARD
BEGIN:DAYLIGHT
TZOFFSETFROM:+0100
TZOFFSETTO:+0200
TZNAME:CEST
DTSTART:20250330T010000
END:DAYLIGHT
BEGIN:STANDARD
TZOFFSETFROM:+0200
TZOFFSETTO:+0100
TZNAME:CET
DTSTART:20251026T010000
END:STANDARD
BEGIN:DAYLIGHT
TZOFFSETFROM:+0100
TZOFFSETTO:+0200
TZNAME:CEST
DTSTART:20260329T010000
END:DAYLIGHT
BEGIN:STANDARD
TZOFFSETFROM:+0200
TZOFFSETTO:+0100
TZNAME:CET
DTSTART:20261025T010000
END:STANDARD
END:VTIMEZONE
BEGIN:VEVENT
DTSTART;TZID=Europe/Berlin:20251108T000000
DTEND;TZID=Europe/Berlin:20251108T235900
DTSTAMP:20260426T013316
CREATED:20251020T053246Z
LAST-MODIFIED:20251104T090714Z
UID:7512-1762560000-1762646340@www.skiclub-todtnau.de
SUMMARY:Hurstaktion
DESCRIPTION:
URL:https://www.skiclub-todtnau.de/event/hurstaktion/
CATEGORIES:Vereinswesen
END:VEVENT
END:VCALENDAR