BEGIN:VCALENDAR
VERSION:2.0
PRODID:-//Skiclub Todtnau 1891 e.V. - ECPv6.15.20//NONSGML v1.0//EN
CALSCALE:GREGORIAN
METHOD:PUBLISH
X-WR-CALNAME:Skiclub Todtnau 1891 e.V.
X-ORIGINAL-URL:https://www.skiclub-todtnau.de
X-WR-CALDESC:Veranstaltungen für Skiclub Todtnau 1891 e.V.
REFRESH-INTERVAL;VALUE=DURATION:PT1H
X-Robots-Tag:noindex
X-PUBLISHED-TTL:PT1H
BEGIN:VTIMEZONE
TZID:Europe/Berlin
BEGIN:DAYLIGHT
TZOFFSETFROM:+0100
TZOFFSETTO:+0200
TZNAME:CEST
DTSTART:20250330T010000
END:DAYLIGHT
BEGIN:STANDARD
TZOFFSETFROM:+0200
TZOFFSETTO:+0100
TZNAME:CET
DTSTART:20251026T010000
END:STANDARD
BEGIN:DAYLIGHT
TZOFFSETFROM:+0100
TZOFFSETTO:+0200
TZNAME:CEST
DTSTART:20260329T010000
END:DAYLIGHT
BEGIN:STANDARD
TZOFFSETFROM:+0200
TZOFFSETTO:+0100
TZNAME:CET
DTSTART:20261025T010000
END:STANDARD
BEGIN:DAYLIGHT
TZOFFSETFROM:+0100
TZOFFSETTO:+0200
TZNAME:CEST
DTSTART:20270328T010000
END:DAYLIGHT
BEGIN:STANDARD
TZOFFSETFROM:+0200
TZOFFSETTO:+0100
TZNAME:CET
DTSTART:20271031T010000
END:STANDARD
END:VTIMEZONE
BEGIN:VEVENT
DTSTART;TZID=Europe/Berlin:20260508T190000
DTEND;TZID=Europe/Berlin:20260508T220000
DTSTAMP:20260425T183252
CREATED:20250911T065118Z
LAST-MODIFIED:20260412T082648Z
UID:7503-1778266800-1778277600@www.skiclub-todtnau.de
SUMMARY:Generalversammlung
DESCRIPTION:
URL:https://www.skiclub-todtnau.de/event/generalversammlung/
LOCATION:Gasthaus dasRössle\, Geschwend
CATEGORIES:Vereinswesen
ATTACH;FMTTYPE=image/jpeg:https://www.skiclub-todtnau.de/wp-content/uploads/sites/23/2025/09/Tagesordung-GV_2026-scaled.jpg
END:VEVENT
BEGIN:VEVENT
DTSTART;TZID=Europe/Berlin:20260711T080000
DTEND;TZID=Europe/Berlin:20260712T170000
DTSTAMP:20260425T183252
CREATED:20251028T115801Z
LAST-MODIFIED:20251028T115801Z
UID:7537-1783756800-1783875600@www.skiclub-todtnau.de
SUMMARY:Hochgebirgswanderung
DESCRIPTION:
URL:https://www.skiclub-todtnau.de/event/hochgebirgswanderung/
END:VEVENT
BEGIN:VEVENT
DTSTART;TZID=Europe/Berlin:20260726T000000
DTEND;TZID=Europe/Berlin:20260726T235900
DTSTAMP:20260425T183252
CREATED:20251028T120514Z
LAST-MODIFIED:20251104T091551Z
UID:7542-1785024000-1785110340@www.skiclub-todtnau.de
SUMMARY:Ultra Bike Marathon
DESCRIPTION:
URL:https://www.skiclub-todtnau.de/event/ultra-bike-marathon/
END:VEVENT
BEGIN:VEVENT
DTSTART;VALUE=DATE:20260903
DTEND;VALUE=DATE:20260907
DTSTAMP:20260425T183252
CREATED:20251001T063310Z
LAST-MODIFIED:20251001T063310Z
UID:7510-1788393600-1788739199@www.skiclub-todtnau.de
SUMMARY:Deutsche Meisterschaft Biathlon
DESCRIPTION:
URL:https://www.skiclub-todtnau.de/event/deutsche-meisterschaft-biathlon/
LOCATION:Nordic-Arena Notschrei\, Notschrei
CATEGORIES:Biathlon
END:VEVENT
BEGIN:VEVENT
DTSTART;TZID=Europe/Berlin:20260913T120000
DTEND;TZID=Europe/Berlin:20260913T170000
DTSTAMP:20260425T183252
CREATED:20251220T110700Z
LAST-MODIFIED:20251220T110700Z
UID:7817-1789300800-1789318800@www.skiclub-todtnau.de
SUMMARY:Familienfest
DESCRIPTION:auf der Schlegelbachhütte für alle Mitglieder und Freunde des Vereins.
URL:https://www.skiclub-todtnau.de/event/familienfest/
END:VEVENT
BEGIN:VEVENT
DTSTART;TZID=Europe/Berlin:20261017T080000
DTEND;TZID=Europe/Berlin:20261017T170000
DTSTAMP:20260425T183252
CREATED:20251218T074656Z
LAST-MODIFIED:20251218T074656Z
UID:7811-1792224000-1792256400@www.skiclub-todtnau.de
SUMMARY:Hurstaktion am Silberberg
DESCRIPTION:Freihaltungsmaßnahme der alten Silberbergabfahrt im unteren Teil.
URL:https://www.skiclub-todtnau.de/event/hurstaktion-am-silberberg/
END:VEVENT
BEGIN:VEVENT
DTSTART;VALUE=DATE:20261220
DTEND;VALUE=DATE:20261221
DTSTAMP:20260425T183252
CREATED:20251221T213446Z
LAST-MODIFIED:20251221T213446Z
UID:7819-1797724800-1797811199@www.skiclub-todtnau.de
SUMMARY:Skiausfahrt
DESCRIPTION:
URL:https://www.skiclub-todtnau.de/event/skiausfahrt-2/
END:VEVENT
END:VCALENDAR